BEGIN:VCALENDAR
VERSION:2.0
PRODID:-//wp-events-plugin.com//7.2.3.1//EN
TZID:Europe/Berlin
X-WR-TIMEZONE:Europe/Berlin
BEGIN:VEVENT
UID:64@musikschule-vulkaneifel.de
DTSTART;TZID=Europe/Berlin:20251130T163000
DTEND;TZID=Europe/Berlin:20251130T173000
DTSTAMP:20251030T113343Z
URL:https://musikschule-vulkaneifel.de/veranstaltungen/workshopkonzert-mus
 iziertag/
SUMMARY:Workshopkonzert Musiziertag
DESCRIPTION:
ATTACH;FMTTYPE=image/jpeg:https://musikschule-vulkaneifel.de/wp-content/up
 loads/2025/10/Plakat-mechthild.jpeg
LOCATION:Rathausaal Hillesheim\, Burgstraße 6\, Hillesheim\, 54576\, Deuts
 chland
X-APPLE-STRUCTURED-LOCATION;VALUE=URI;X-ADDRESS=Burgstraße 6\, Hillesheim\
 , 54576\, Deutschland;X-APPLE-RADIUS=100;X-TITLE=Rathausaal Hillesheim:geo
 :0,0
END:VEVENT
BEGIN:VTIMEZONE
TZID:Europe/Berlin
X-LIC-LOCATION:Europe/Berlin
BEGIN:STANDARD
DTSTART:20251026T020000
TZOFFSETFROM:+0200
TZOFFSETTO:+0100
TZNAME:CET
END:STANDARD
END:VTIMEZONE
END:VCALENDAR