BEGIN:VCALENDAR
VERSION:2.0
PRODID:-//wp-events-plugin.com//7.2.3.1//EN
TZID:Europe/Berlin
X-WR-TIMEZONE:Europe/Berlin
BEGIN:VEVENT
UID:66@musikschule-vulkaneifel.de
DTSTART;TZID=Europe/Berlin:20251204T183000
DTEND;TZID=Europe/Berlin:20251204T193000
DTSTAMP:20251117T103504Z
URL:https://musikschule-vulkaneifel.de/veranstaltungen/weihnachtskonzert-2
 /
SUMMARY:Weihnachtskonzert
DESCRIPTION:Auch in diesem Jahr lädt die Musikschule Vulkaneifel wieder zu
  ihrem jährlichen Weihnachtskonzert ein. Lassen Sie sich von einem bunten
  und abwechslungsreichen Programm\, dargeboten von Schülerinnen und Schü
 lern der Musikschule\, in vorweihnachtliche Stimmung versetzen. 
ATTACH;FMTTYPE=image/jpeg:https://musikschule-vulkaneifel.de/wp-content/up
 loads/2025/11/Weihnachtskonzert-Musikschule.jpg
END:VEVENT
BEGIN:VTIMEZONE
TZID:Europe/Berlin
X-LIC-LOCATION:Europe/Berlin
BEGIN:STANDARD
DTSTART:20251026T020000
TZOFFSETFROM:+0200
TZOFFSETTO:+0100
TZNAME:CET
END:STANDARD
END:VTIMEZONE
END:VCALENDAR