BEGIN:VCALENDAR
VERSION:2.0
PRODID:-//wp-events-plugin.com//7.2.3.1//EN
TZID:Europe/Berlin
X-WR-TIMEZONE:Europe/Berlin
BEGIN:VEVENT
UID:34@musikschule-vulkaneifel.de
DTSTART;TZID=Europe/Berlin;VALUE=DATE:20200117
DTEND;TZID=Europe/Berlin;VALUE=DATE:20200118
DTSTAMP:20200123T101318Z
URL:https://musikschule-vulkaneifel.de/veranstaltungen/umrahmung-des-neuja
 hrsempfang-der-cdu-vulkaneifel/
SUMMARY:Umrahmung des Neujahrsempfang der CDU Vulkaneifel
DESCRIPTION:mit Beiträgen aus der Gesangsklasse von Claudia Scheiner
LOCATION:Gerolstein\, Gerolstein\, Gerolstein\, Deutschland
X-APPLE-STRUCTURED-LOCATION;VALUE=URI;X-ADDRESS=Gerolstein\, Gerolstein\, D
 eutschland;X-APPLE-RADIUS=100;X-TITLE=Gerolstein:geo:0,0
END:VEVENT
BEGIN:VTIMEZONE
TZID:Europe/Berlin
X-LIC-LOCATION:Europe/Berlin
BEGIN:STANDARD
DTSTART:20191027T020000
TZOFFSETFROM:+0200
TZOFFSETTO:+0100
TZNAME:CET
END:STANDARD
END:VTIMEZONE
END:VCALENDAR