BEGIN:VCALENDAR
VERSION:2.0
PRODID:-//wp-events-plugin.com//7.2.3.1//EN
TZID:Europe/Berlin
X-WR-TIMEZONE:Europe/Berlin
BEGIN:VEVENT
UID:68@musikschule-vulkaneifel.de
DTSTART;TZID=Europe/Berlin:20260525T190000
DTEND;TZID=Europe/Berlin:20260525T210000
DTSTAMP:20260421T111537Z
URL:https://musikschule-vulkaneifel.de/veranstaltungen/turn-the-beat-aroun
 d-konzert-der-gsg-musikschul-bigband/
SUMMARY:Turn the beat around - Bigband Konzert an Pfingstmontag
DESCRIPTION:Bigband-Fans\, aufgepasst:\nAm 25. Mai 2026 (Pfingstmontag) fin
 det um 19:00 im Forum Daun wieder das Jahreskonzert der GSG-Musikschul-Big
 band  unter der bewährten Leitung von Uli Nonn statt.\nEs erwartet Sie e
 in abwechslungsreiches und kurzweiliges Programm. Lassen Sie sich mitnehme
 n auf eine Reise in die Welt der Bigbandmusik. Neben „typischen“ Klass
 ikern wie z.B. "Sing\, Sing\, Sing“ oder „Chicago“ sind auch Filmmus
 ikklassiker wie „Gonna fly now“ aus „Rocky“ oder „Cantina Band
 “ aus „Star Wars“ zu hören.\nLassen Sie sich überraschen!\n\nDer E
 intritt ist wie immer frei\, über eine kleine Spende zur Kostendeckung w
 ürden sich die Akteure jedoch sehr freuen.\n\n
ATTACH;FMTTYPE=image/jpeg:https://musikschule-vulkaneifel.de/wp-content/up
 loads/2026/04/Big-Band-Plakat-2026.jpeg
LOCATION:Forum Daun\, Leopoldstraße 5\, 54550 Daun\, Vulkaneifel\, Deutsch
 land
X-APPLE-STRUCTURED-LOCATION;VALUE=URI;X-ADDRESS=Leopoldstraße 5\, 54550 Da
 un\, Vulkaneifel\, Deutschland;X-APPLE-RADIUS=100;X-TITLE=Forum Daun:geo:0
 ,0
END:VEVENT
BEGIN:VTIMEZONE
TZID:Europe/Berlin
X-LIC-LOCATION:Europe/Berlin
BEGIN:DAYLIGHT
DTSTART:20260329T030000
TZOFFSETFROM:+0100
TZOFFSETTO:+0200
TZNAME:CEST
END:DAYLIGHT
END:VTIMEZONE
END:VCALENDAR