BEGIN:VCALENDAR
VERSION:2.0
PRODID:-//wp-events-plugin.com//7.2.3.1//EN
TZID:Europe/Berlin
X-WR-TIMEZONE:Europe/Berlin
BEGIN:VEVENT
UID:21@musikschule-vulkaneifel.de
DTSTART;TZID=Europe/Berlin:20190511T100000
DTEND;TZID=Europe/Berlin:20190511T180000
DTSTAMP:20190520T103149Z
URL:https://musikschule-vulkaneifel.de/veranstaltungen/teilnahme-am-5-klav
 ierwettbewerb-zur-foerderung-junger-pianistinnen-und-pianisten-aus-luxembu
 rg-saarland-und-rlp/
SUMMARY:Teilnahme am 5. Klavierwettbewerb zur Förderung junger Pianistinne
 n und Pianisten aus Luxemburg\, Saarland und RLP
DESCRIPTION:Mit vier Preisträgern ist die Musikschule Vulkaneifel vom inte
 rnationalen Klavier-Wettbewerb der Landesverbände der Musikschulen Luxemb
 urg\, Saarland und Rheinland-Pfalz am 11.05.19 in Trier nach Hause gekomme
 n: Evelyn Zinn (elf Jahre alt) holte den ersten Preis\, Leon Konrad (11) u
 nd Vanessa Müller (11) jeweils den zweiten und Jessica Baier (16) den dri
 tten.
LOCATION:Karl-Berg-Musikschule der Stadt Trier\, Paulinstraße 42b\, Trier\
 , RLP\, 54292\, Deutschland
X-APPLE-STRUCTURED-LOCATION;VALUE=URI;X-ADDRESS=Paulinstraße 42b\, Trier\,
  RLP\, 54292\, Deutschland;X-APPLE-RADIUS=100;X-TITLE=Karl-Berg-Musikschul
 e der Stadt Trier:geo:0,0
END:VEVENT
BEGIN:VTIMEZONE
TZID:Europe/Berlin
X-LIC-LOCATION:Europe/Berlin
BEGIN:DAYLIGHT
DTSTART:20190331T030000
TZOFFSETFROM:+0100
TZOFFSETTO:+0200
TZNAME:CEST
END:DAYLIGHT
END:VTIMEZONE
END:VCALENDAR