BEGIN:VCALENDAR
VERSION:2.0
PRODID:-//wp-events-plugin.com//7.2.3.1//EN
TZID:Europe/Berlin
X-WR-TIMEZONE:Europe/Berlin
BEGIN:VEVENT
UID:13@musikschule-vulkaneifel.de
DTSTART;TZID=Europe/Berlin:20190414T140000
DTEND;TZID=Europe/Berlin:20190414T180000
DTSTAMP:20190215T085006Z
URL:https://musikschule-vulkaneifel.de/veranstaltungen/tag-der-offenen-tue
 r-der-musikschule-vulkaneifel-e-v/
SUMMARY:Tag der offenen Tür der Musikschule Vulkaneifel e.V.
DESCRIPTION:\n 	Kinderkonzert von 15.00 - 15.45 Uhr\n 	Klangstraße\n 	klei
 nere Konzerte in den einzelnen Instrumentenräumen\n 	Kaffee und Kuchen\n
LOCATION:Geschwister Scholl Gymnasium\, Daun\, Schulstraße 1\, Daun\, Rhei
 nland-Pfalz\, 54550\, Deutschland
X-APPLE-STRUCTURED-LOCATION;VALUE=URI;X-ADDRESS=Schulstraße 1\, Daun\, Rhe
 inland-Pfalz\, 54550\, Deutschland;X-APPLE-RADIUS=100;X-TITLE=Geschwister 
 Scholl Gymnasium\, Daun:geo:0,0
END:VEVENT
BEGIN:VTIMEZONE
TZID:Europe/Berlin
X-LIC-LOCATION:Europe/Berlin
BEGIN:DAYLIGHT
DTSTART:20190331T030000
TZOFFSETFROM:+0100
TZOFFSETTO:+0200
TZNAME:CEST
END:DAYLIGHT
END:VTIMEZONE
END:VCALENDAR