BEGIN:VCALENDAR
VERSION:2.0
PRODID:-//wp-events-plugin.com//7.2.3.1//EN
TZID:Europe/Berlin
X-WR-TIMEZONE:Europe/Berlin
BEGIN:VEVENT
UID:42@musikschule-vulkaneifel.de
DTSTART;TZID=Europe/Berlin:20240428T143000
DTEND;TZID=Europe/Berlin:20240428T180000
DTSTAMP:20240216T225722Z
URL:https://musikschule-vulkaneifel.de/veranstaltungen/tag-der-offenen-tue
 r-3/
SUMMARY:Tag der offenen Tür
DESCRIPTION:Die Musikschule lädt alle Interessierten\, ob Klein oder Groß
 \, zum „Tag der offenen Tür“ am 28. April in die Aula des Geschwister
 -Scholl-Gymnasiums Daun ein. Nachdem die Instrumente in einem kurzweiligen
  Konzert vorgestellt werden\, kann danach nach Lust und Laune selbst auspr
 obiert werden\, um das passende Instrumen für sich selbst zu finden. Für
  das leibliche Wohl ist gesorgt. Wir freuen uns über viele Besucherinnen 
 und Besucher! 
LOCATION:Geschwister Scholl Gymnasium\, Daun\, Schulstraße 1\, Daun\, Rhei
 nland-Pfalz\, 54550\, Deutschland
X-APPLE-STRUCTURED-LOCATION;VALUE=URI;X-ADDRESS=Schulstraße 1\, Daun\, Rhe
 inland-Pfalz\, 54550\, Deutschland;X-APPLE-RADIUS=100;X-TITLE=Geschwister 
 Scholl Gymnasium\, Daun:geo:0,0
END:VEVENT
BEGIN:VTIMEZONE
TZID:Europe/Berlin
X-LIC-LOCATION:Europe/Berlin
BEGIN:DAYLIGHT
DTSTART:20240331T030000
TZOFFSETFROM:+0100
TZOFFSETTO:+0200
TZNAME:CEST
END:DAYLIGHT
END:VTIMEZONE
END:VCALENDAR