BEGIN:VCALENDAR
VERSION:2.0
PRODID:-//wp-events-plugin.com//7.2.3.1//EN
TZID:Europe/Berlin
X-WR-TIMEZONE:Europe/Berlin
BEGIN:VEVENT
UID:24@musikschule-vulkaneifel.de
DTSTART;TZID=Europe/Berlin:20190623T170000
DTEND;TZID=Europe/Berlin:20190623T190000
DTSTAMP:20190605T103421Z
URL:https://musikschule-vulkaneifel.de/veranstaltungen/sommernachtstraeume
 -schuelerkonzert/
SUMMARY:Sommernachtsträume | Schülerkonzert
DESCRIPTION:Schülerkonzert der Gesangsklasse von Claudia Scheiner\n\nSolos
 tücke - Duette - Ensembles - Chor
LOCATION:Seniorenhaus Regina Protmann\, Ermlandweg 1\, Daun\, Rheinland-Pfa
 lz\, 54550\, Deutschland
X-APPLE-STRUCTURED-LOCATION;VALUE=URI;X-ADDRESS=Ermlandweg 1\, Daun\, Rhein
 land-Pfalz\, 54550\, Deutschland;X-APPLE-RADIUS=100;X-TITLE=Seniorenhaus R
 egina Protmann:geo:0,0
END:VEVENT
BEGIN:VTIMEZONE
TZID:Europe/Berlin
X-LIC-LOCATION:Europe/Berlin
BEGIN:DAYLIGHT
DTSTART:20190331T030000
TZOFFSETFROM:+0100
TZOFFSETTO:+0200
TZNAME:CEST
END:DAYLIGHT
END:VTIMEZONE
END:VCALENDAR