BEGIN:VCALENDAR
VERSION:2.0
PRODID:-//wp-events-plugin.com//7.2.3.1//EN
TZID:Europe/Berlin
X-WR-TIMEZONE:Europe/Berlin
BEGIN:VEVENT
UID:55@musikschule-vulkaneifel.de
DTSTART;TZID=Europe/Berlin:20250629T110000
DTEND;TZID=Europe/Berlin:20250629T123000
DTSTAMP:20250625T090211Z
URL:https://musikschule-vulkaneifel.de/veranstaltungen/schuelerkonzert-der
 -gesangsklasse/
SUMMARY:Schülerkonzert der Gesangsklasse
DESCRIPTION:Die Gesangsklasse von Claudia Scheiner präsentiert ein vielsei
 tiges Programm aus modernen Popstücken\, Musicalsongs\, Arien und Kunstli
 edern. Gesungen wird allein\, im Duett und im Chor.
ATTACH;FMTTYPE=image/jpeg:https://musikschule-vulkaneifel.de/wp-content/up
 loads/2025/06/DE21A8E4-2E7F-410B-8090-3DB0284C15B7_1_201_a.jpeg
LOCATION:Seniorenheim Regina Protmann\, Ermlandweg 1\, Daun\, 54550\, Deuts
 chland
X-APPLE-STRUCTURED-LOCATION;VALUE=URI;X-ADDRESS=Ermlandweg 1\, Daun\, 54550
 \, Deutschland;X-APPLE-RADIUS=100;X-TITLE=Seniorenheim Regina Protmann:geo
 :0,0
END:VEVENT
BEGIN:VTIMEZONE
TZID:Europe/Berlin
X-LIC-LOCATION:Europe/Berlin
BEGIN:DAYLIGHT
DTSTART:20250330T030000
TZOFFSETFROM:+0100
TZOFFSETTO:+0200
TZNAME:CEST
END:DAYLIGHT
END:VTIMEZONE
END:VCALENDAR