BEGIN:VCALENDAR
VERSION:2.0
PRODID:-//wp-events-plugin.com//7.2.3.1//EN
TZID:Europe/Berlin
X-WR-TIMEZONE:Europe/Berlin
BEGIN:VEVENT
UID:48@musikschule-vulkaneifel.de
DTSTART;TZID=Europe/Berlin;VALUE=DATE:20240628
DTEND;TZID=Europe/Berlin;VALUE=DATE:20240701
DTSTAMP:20240623T123758Z
URL:https://musikschule-vulkaneifel.de/veranstaltungen/picnic-folk-fest/
SUMMARY:Picnic Folk Fest
DESCRIPTION:Beim Picnic Folk Fest in Schüller singt der Chor unserer Musik
 schule am Samstag um 16:15 Ausschnitte aus "Les Misérables" und "The grea
 test Showman".\n\nAm Sonntag um 14:30 sind dann Josephine Wagner und Pauli
 na Schmitz aus der Saxofonklasse von Uli Nonn zu hören.\n\nUnd unser Geig
 enlehrer Florin Negreanu\, Hauptorganisator der Veranstaltung\, spielt all
 en Tagen\, alleine und gemeinsam mit Detlev Reuter am Akkordeon als Duo Ba
 ndanuevo.\n\n&nbsp\;\n\n 
END:VEVENT
BEGIN:VTIMEZONE
TZID:Europe/Berlin
X-LIC-LOCATION:Europe/Berlin
BEGIN:DAYLIGHT
DTSTART:20240331T030000
TZOFFSETFROM:+0100
TZOFFSETTO:+0200
TZNAME:CEST
END:DAYLIGHT
END:VTIMEZONE
END:VCALENDAR