BEGIN:VCALENDAR
VERSION:2.0
PRODID:-//wp-events-plugin.com//7.2.3.1//EN
TZID:Europe/Berlin
X-WR-TIMEZONE:Europe/Berlin
BEGIN:VEVENT
UID:3@musikschule-vulkaneifel.de
DTSTART;TZID=Europe/Berlin:20180817T180000
DTEND;TZID=Europe/Berlin:20180817T190000
DTSTAMP:20180901T080341Z
URL:https://musikschule-vulkaneifel.de/veranstaltungen/musikalische-umrahm
 ung-der-veranstaltung-zur-verleihung-der-ehrenzeichen-der-feuerwehr-im-gro
 ssen-saal-des-kreishauses-daun/
SUMMARY:Musikalische Umrahmung der Veranstaltung zur Verleihung der Ehrenze
 ichen der Feuerwehr im großen Saal des Kreishauses Daun
DESCRIPTION:Max Stricker\, Akkordeon\n\nKlasse Alexander Konrad\n
LOCATION:Kreisverwaltung Daun\, Mainzer Straße 23\, Daun\, Rheinland-Pfalz
 \, 54550\, Deutschland
X-APPLE-STRUCTURED-LOCATION;VALUE=URI;X-ADDRESS=Mainzer Straße 23\, Daun\,
  Rheinland-Pfalz\, 54550\, Deutschland;X-APPLE-RADIUS=100;X-TITLE=Kreisver
 waltung Daun:geo:0,0
END:VEVENT
BEGIN:VTIMEZONE
TZID:Europe/Berlin
X-LIC-LOCATION:Europe/Berlin
BEGIN:DAYLIGHT
DTSTART:20180325T030000
TZOFFSETFROM:+0100
TZOFFSETTO:+0200
TZNAME:CEST
END:DAYLIGHT
END:VTIMEZONE
END:VCALENDAR