BEGIN:VCALENDAR
VERSION:2.0
PRODID:-//wp-events-plugin.com//7.2.3.1//EN
TZID:Europe/Berlin
X-WR-TIMEZONE:Europe/Berlin
BEGIN:VEVENT
UID:29@musikschule-vulkaneifel.de
DTSTART;TZID=Europe/Berlin:20191019T100000
DTEND;TZID=Europe/Berlin:20191019T140000
DTSTAMP:20191111T080136Z
URL:https://musikschule-vulkaneifel.de/veranstaltungen/musikalische-beglei
 tung-des-patiententages-der-krebsgesellschaft-trier/
SUMMARY:Musikalische Begleitung des Patiententages der Krebsgesellschaft Tr
 ier
DESCRIPTION:Musikalische Begleitung des Patientenintages der Krebsgesellsch
 aft Trier im Forum Daun.\n\nMitwirkung: Carolin Reuter (Querflöte)\n\nhtt
 ps://www.krebsgesellschaft-rlp.de/hilfe-fuer-krebspatienten-und-familien/b
 eratungszentren/trier/aktuelles/aktuelles-archiv-tr/medizin-psychoonkologi
 e-selbsthilfe-ein-netz-das-traegt-daun-2
LOCATION:Forum Daun\, Leopoldstraße 5\, Daun\, Rheinland-Pfalz\, 54550\, D
 eutschland
X-APPLE-STRUCTURED-LOCATION;VALUE=URI;X-ADDRESS=Leopoldstraße 5\, Daun\, R
 heinland-Pfalz\, 54550\, Deutschland;X-APPLE-RADIUS=100;X-TITLE=Forum Daun
 :geo:0,0
END:VEVENT
BEGIN:VTIMEZONE
TZID:Europe/Berlin
X-LIC-LOCATION:Europe/Berlin
BEGIN:DAYLIGHT
DTSTART:20190331T030000
TZOFFSETFROM:+0100
TZOFFSETTO:+0200
TZNAME:CEST
END:DAYLIGHT
END:VTIMEZONE
END:VCALENDAR