BEGIN:VCALENDAR
VERSION:2.0
PRODID:-//wp-events-plugin.com//7.2.3.1//EN
TZID:Europe/Berlin
X-WR-TIMEZONE:Europe/Berlin
BEGIN:VEVENT
UID:23@musikschule-vulkaneifel.de
DTSTART;TZID=Europe/Berlin:20190824T103000
DTEND;TZID=Europe/Berlin:20190824T130000
DTSTAMP:20190614T075138Z
URL:https://musikschule-vulkaneifel.de/veranstaltungen/musikalische-beglei
 tung-des-19-vdk-kreisverbandstag-wittlich-daun/
SUMMARY:Musikalische Begleitung des 19. Kreisverbandstag VdK Wittlich-Daun
DESCRIPTION:
LOCATION:Forum Daun\, Leopoldstraße 5\, Daun\, Rheinland-Pfalz\, 54550\, D
 eutschland
X-APPLE-STRUCTURED-LOCATION;VALUE=URI;X-ADDRESS=Leopoldstraße 5\, Daun\, R
 heinland-Pfalz\, 54550\, Deutschland;X-APPLE-RADIUS=100;X-TITLE=Forum Daun
 :geo:0,0
END:VEVENT
BEGIN:VTIMEZONE
TZID:Europe/Berlin
X-LIC-LOCATION:Europe/Berlin
BEGIN:DAYLIGHT
DTSTART:20190331T030000
TZOFFSETFROM:+0100
TZOFFSETTO:+0200
TZNAME:CEST
END:DAYLIGHT
END:VTIMEZONE
END:VCALENDAR