BEGIN:VCALENDAR
VERSION:2.0
PRODID:-//wp-events-plugin.com//7.2.3.1//EN
TZID:Europe/Berlin
X-WR-TIMEZONE:Europe/Berlin
BEGIN:VEVENT
UID:20@musikschule-vulkaneifel.de
DTSTART;TZID=Europe/Berlin:20190510T160000
DTEND;TZID=Europe/Berlin:20190510T180000
DTSTAMP:20190514T085846Z
URL:https://musikschule-vulkaneifel.de/veranstaltungen/musikalische-beglei
 tung-der-eroeffnung-der-hebammenzentrale/
SUMMARY:Musikalische Begleitung der Eröffnung der Hebammenzentrale
DESCRIPTION:Mit Schülern der Klavierklasse von Frau Konrad sowie Schülern
  der Violinklasse von Frau Hägele18
LOCATION:DRK Haus Daun\, Leopoldstraße 34\, Daun\, 54550\, Deutschland
X-APPLE-STRUCTURED-LOCATION;VALUE=URI;X-ADDRESS=Leopoldstraße 34\, Daun\, 
 54550\, Deutschland;X-APPLE-RADIUS=100;X-TITLE=DRK Haus Daun:geo:0,0
END:VEVENT
BEGIN:VTIMEZONE
TZID:Europe/Berlin
X-LIC-LOCATION:Europe/Berlin
BEGIN:DAYLIGHT
DTSTART:20190331T030000
TZOFFSETFROM:+0100
TZOFFSETTO:+0200
TZNAME:CEST
END:DAYLIGHT
END:VTIMEZONE
END:VCALENDAR