BEGIN:VCALENDAR
VERSION:2.0
PRODID:-//wp-events-plugin.com//7.2.3.1//EN
TZID:Europe/Berlin
X-WR-TIMEZONE:Europe/Berlin
BEGIN:VEVENT
UID:31@musikschule-vulkaneifel.de
DTSTART;TZID=Europe/Berlin:20191010T170000
DTEND;TZID=Europe/Berlin:20191010T180000
DTSTAMP:20191112T104700Z
URL:https://musikschule-vulkaneifel.de/veranstaltungen/musikalische-beglei
 tung-der-einbuergerungsfeier/
SUMMARY:Musikalische Begleitung der Einbürgerungsfeier
DESCRIPTION:Musikalische Begleitung der Einbürgerungsfeier des Landkreises
  Vulkaneifel durch Frau Swetlana Konrad (Klavier) und Anastasia Konrad (Ge
 ige).
LOCATION:Kreisverwaltung Daun\, Mainzer Straße 23\, Daun\, Rheinland-Pfalz
 \, 54550\, Deutschland
X-APPLE-STRUCTURED-LOCATION;VALUE=URI;X-ADDRESS=Mainzer Straße 23\, Daun\,
  Rheinland-Pfalz\, 54550\, Deutschland;X-APPLE-RADIUS=100;X-TITLE=Kreisver
 waltung Daun:geo:0,0
END:VEVENT
BEGIN:VTIMEZONE
TZID:Europe/Berlin
X-LIC-LOCATION:Europe/Berlin
BEGIN:DAYLIGHT
DTSTART:20190331T030000
TZOFFSETFROM:+0100
TZOFFSETTO:+0200
TZNAME:CEST
END:DAYLIGHT
END:VTIMEZONE
END:VCALENDAR