BEGIN:VCALENDAR
VERSION:2.0
PRODID:-//wp-events-plugin.com//7.2.3.1//EN
TZID:Europe/Berlin
X-WR-TIMEZONE:Europe/Berlin
BEGIN:VEVENT
UID:18@musikschule-vulkaneifel.de
DTSTART;TZID=Europe/Berlin:20190319T170000
DTEND;TZID=Europe/Berlin:20190319T183000
DTSTAMP:20190308T112817Z
URL:https://musikschule-vulkaneifel.de/veranstaltungen/musikalische-beglei
 tung-der-einbuergerungsfeier-des-landkreises-vulkaneifel/
SUMMARY:Musikalische Begleitung der Einbürgerungsfeier des Landkreises Vul
 kaneifel
DESCRIPTION:Landrat Heinz Peter Thiel lädt auch im Jahr 2019 zur Einbürge
 rungsfeier ein. Im Sitzungssaal der Kreisverwaltung werden Menschen aus ve
 rschiedenen Nationen eingebürgert.\n\nDie musikalische Begleitung dieser 
 Feier übernehmen Schüler aus der Klavierklasse von Frau Konrad der Musik
 schule des Landkreises Vulkaneifel.
LOCATION:Kreisverwaltung Daun\, Mainzer Straße 23\, Daun\, Rheinland-Pfalz
 \, 54550\, Deutschland
X-APPLE-STRUCTURED-LOCATION;VALUE=URI;X-ADDRESS=Mainzer Straße 23\, Daun\,
  Rheinland-Pfalz\, 54550\, Deutschland;X-APPLE-RADIUS=100;X-TITLE=Kreisver
 waltung Daun:geo:0,0
END:VEVENT
BEGIN:VTIMEZONE
TZID:Europe/Berlin
X-LIC-LOCATION:Europe/Berlin
BEGIN:STANDARD
DTSTART:20181028T020000
TZOFFSETFROM:+0200
TZOFFSETTO:+0100
TZNAME:CET
END:STANDARD
END:VTIMEZONE
END:VCALENDAR