BEGIN:VCALENDAR
VERSION:2.0
PRODID:-//wp-events-plugin.com//7.2.3.1//EN
TZID:Europe/Berlin
X-WR-TIMEZONE:Europe/Berlin
BEGIN:VEVENT
UID:60@musikschule-vulkaneifel.de
DTSTART;TZID=Europe/Berlin:20251011T193000
DTEND;TZID=Europe/Berlin:20251011T213000
DTSTAMP:20250924T092306Z
URL:https://musikschule-vulkaneifel.de/veranstaltungen/meisterwerke/
SUMMARY:#Meisterwerke
DESCRIPTION:Wir freuen uns\, dass wir beim diesjährigen Konzert des Kreiso
 rchesters\, das Vorprogramm gestalten dürfen. Mit  Saxophon-\, Violin-\,
  und Klavierbeiträgen präsentiert sich die Musikschule in gewohnt vielf
 ältiger Weise.\n\nHier der Link zu den Tickets: https://www.kmv-vulkanei
 fel.de/index.php/tickets/articles/tickets.html
ATTACH;FMTTYPE=image/jpeg:https://musikschule-vulkaneifel.de/wp-content/up
 loads/2025/09/PHOTO-2025-08-28-12-13-42.jpg
LOCATION:Haus Vulkania\, Brücker Stra. 1a\, Dreis-Brück \, Deutschland
X-APPLE-STRUCTURED-LOCATION;VALUE=URI;X-ADDRESS=Brücker Stra. 1a\, Dreis-B
 rück \, Deutschland;X-APPLE-RADIUS=100;X-TITLE=Haus Vulkania:geo:0,0
END:VEVENT
BEGIN:VTIMEZONE
TZID:Europe/Berlin
X-LIC-LOCATION:Europe/Berlin
BEGIN:DAYLIGHT
DTSTART:20250330T030000
TZOFFSETFROM:+0100
TZOFFSETTO:+0200
TZNAME:CEST
END:DAYLIGHT
END:VTIMEZONE
END:VCALENDAR