BEGIN:VCALENDAR
VERSION:2.0
PRODID:-//wp-events-plugin.com//7.2.3.1//EN
TZID:Europe/Berlin
X-WR-TIMEZONE:Europe/Berlin
BEGIN:VEVENT
UID:37@musikschule-vulkaneifel.de
DTSTART;TZID=Europe/Berlin:20200319T100000
DTEND;TZID=Europe/Berlin:20200319T123000
DTSTAMP:20200203T202610Z
URL:https://musikschule-vulkaneifel.de/veranstaltungen/lets-rock-the-music
 -2/
SUMMARY:Let´s rock the music
DESCRIPTION:Abschlusskonzert des Projekts TEAM mit STERN
LOCATION:Förderzentrum Gerolstein\, Waldstraße 17\, Gerolstein\, Deutschl
 and
X-APPLE-STRUCTURED-LOCATION;VALUE=URI;X-ADDRESS=Waldstraße 17\, Gerolstein
 \, Deutschland;X-APPLE-RADIUS=100;X-TITLE=Förderzentrum Gerolstein:geo:0,
 0
END:VEVENT
BEGIN:VTIMEZONE
TZID:Europe/Berlin
X-LIC-LOCATION:Europe/Berlin
BEGIN:STANDARD
DTSTART:20191027T020000
TZOFFSETFROM:+0200
TZOFFSETTO:+0100
TZNAME:CET
END:STANDARD
END:VTIMEZONE
END:VCALENDAR