BEGIN:VCALENDAR
VERSION:2.0
PRODID:-//wp-events-plugin.com//7.2.3.1//EN
TZID:Europe/Berlin
X-WR-TIMEZONE:Europe/Berlin
BEGIN:VEVENT
UID:32@musikschule-vulkaneifel.de
DTSTART;TZID=Europe/Berlin:20191205T190000
DTEND;TZID=Europe/Berlin:20191205T201500
DTSTAMP:20191126T090559Z
URL:https://musikschule-vulkaneifel.de/veranstaltungen/konzert-zum-nikolau
 sabend/
SUMMARY:Konzert zum Nikolausabend
DESCRIPTION:Lasst uns froh und munter sein.\n\nEin Konzert zum Nikolausaben
 d.\n\nEs singen und musizieren Schüler der Musikschule Landkreis Vulkanei
 fel e.V.
LOCATION:Seniorenhaus Regina Protmann\, Ermlandweg 1\, Daun\, Rheinland-Pfa
 lz\, 54550\, Deutschland
X-APPLE-STRUCTURED-LOCATION;VALUE=URI;X-ADDRESS=Ermlandweg 1\, Daun\, Rhein
 land-Pfalz\, 54550\, Deutschland;X-APPLE-RADIUS=100;X-TITLE=Seniorenhaus R
 egina Protmann:geo:0,0
END:VEVENT
BEGIN:VTIMEZONE
TZID:Europe/Berlin
X-LIC-LOCATION:Europe/Berlin
BEGIN:STANDARD
DTSTART:20191027T020000
TZOFFSETFROM:+0200
TZOFFSETTO:+0100
TZNAME:CET
END:STANDARD
END:VTIMEZONE
END:VCALENDAR