BEGIN:VCALENDAR
VERSION:2.0
PRODID:-//wp-events-plugin.com//7.2.3.1//EN
TZID:Europe/Berlin
X-WR-TIMEZONE:Europe/Berlin
BEGIN:VEVENT
UID:9@musikschule-vulkaneifel.de
DTSTART;TZID=Europe/Berlin:20181021T140000
DTEND;TZID=Europe/Berlin:20181021T140000
DTSTAMP:20181006T200151Z
URL:https://musikschule-vulkaneifel.de/veranstaltungen/konzert-des-chorver
 bandes-vulkaneifel/
SUMMARY:Konzert des Chorverbandes Vulkaneifel
DESCRIPTION:Konzert des Chorverbandes Vulkaneifel im Regina Protmann-Haus\,
  Daun unter Mitwirkung von Schülerinnen und Schülern der Blockflötenkla
 sse von Eva-Maria Liebe-Wikarek und der Akkordeonklasse von Alexander Konr
 ad
LOCATION:Seniorenheim Regina Protmann\, Ermlandweg 1\, Daun\, 54550\, Deuts
 chland
X-APPLE-STRUCTURED-LOCATION;VALUE=URI;X-ADDRESS=Ermlandweg 1\, Daun\, 54550
 \, Deutschland;X-APPLE-RADIUS=100;X-TITLE=Seniorenheim Regina Protmann:geo
 :0,0
END:VEVENT
BEGIN:VTIMEZONE
TZID:Europe/Berlin
X-LIC-LOCATION:Europe/Berlin
BEGIN:DAYLIGHT
DTSTART:20180325T030000
TZOFFSETFROM:+0100
TZOFFSETTO:+0200
TZNAME:CEST
END:DAYLIGHT
END:VTIMEZONE
END:VCALENDAR