BEGIN:VCALENDAR
VERSION:2.0
PRODID:-//wp-events-plugin.com//7.2.3.1//EN
TZID:Europe/Berlin
X-WR-TIMEZONE:Europe/Berlin
BEGIN:VEVENT
UID:54@musikschule-vulkaneifel.de
DTSTART;TZID=Europe/Berlin:20250622T150000
DTEND;TZID=Europe/Berlin:20250622T160000
DTSTAMP:20250618T112750Z
URL:https://musikschule-vulkaneifel.de/veranstaltungen/konzert-akkordeon-o
 rchester/
SUMMARY:Konzert Akkordeon-Orchester
DESCRIPTION:Leitung: Alexander Konrad
ATTACH;FMTTYPE=image/jpeg:https://musikschule-vulkaneifel.de/wp-content/up
 loads/2025/06/4125DC2E-849A-4AE2-9C9D-ED169EC907AB.jpeg
LOCATION:Nohner Mühle\, Nohner Mühle 2\, Nohn\, Deutschland
X-APPLE-STRUCTURED-LOCATION;VALUE=URI;X-ADDRESS=Nohner Mühle 2\, Nohn\, De
 utschland;X-APPLE-RADIUS=100;X-TITLE=Nohner Mühle:geo:0,0
END:VEVENT
BEGIN:VTIMEZONE
TZID:Europe/Berlin
X-LIC-LOCATION:Europe/Berlin
BEGIN:DAYLIGHT
DTSTART:20250330T030000
TZOFFSETFROM:+0100
TZOFFSETTO:+0200
TZNAME:CEST
END:DAYLIGHT
END:VTIMEZONE
END:VCALENDAR