BEGIN:VCALENDAR
VERSION:2.0
PRODID:-//wp-events-plugin.com//7.2.3.1//EN
TZID:Europe/Berlin
X-WR-TIMEZONE:Europe/Berlin
BEGIN:VEVENT
UID:56@musikschule-vulkaneifel.de
DTSTART;TZID=Europe/Berlin:20250824T150000
DTEND;TZID=Europe/Berlin:20250824T160000
DTSTAMP:20250625T090534Z
URL:https://musikschule-vulkaneifel.de/veranstaltungen/konzert-akkordeon-o
 rchester-2/
SUMMARY:Konzert Akkordeon-Orchester
DESCRIPTION:Leitung: Alexander Konrad
ATTACH;FMTTYPE=image/jpeg:https://musikschule-vulkaneifel.de/wp-content/up
 loads/2025/06/EFC8782D-E8CC-4574-9415-19A3AFEF7D06.jpeg
LOCATION:Nohner Mühle\, Nohner Mühle 2\, Nohn\, Deutschland
X-APPLE-STRUCTURED-LOCATION;VALUE=URI;X-ADDRESS=Nohner Mühle 2\, Nohn\, De
 utschland;X-APPLE-RADIUS=100;X-TITLE=Nohner Mühle:geo:0,0
END:VEVENT
BEGIN:VTIMEZONE
TZID:Europe/Berlin
X-LIC-LOCATION:Europe/Berlin
BEGIN:DAYLIGHT
DTSTART:20250330T030000
TZOFFSETFROM:+0100
TZOFFSETTO:+0200
TZNAME:CEST
END:DAYLIGHT
END:VTIMEZONE
END:VCALENDAR