BEGIN:VCALENDAR
VERSION:2.0
PRODID:-//wp-events-plugin.com//7.2.3.1//EN
TZID:Europe/Berlin
X-WR-TIMEZONE:Europe/Berlin
BEGIN:VEVENT
UID:46@musikschule-vulkaneifel.de
DTSTART;TZID=Europe/Berlin:20240616T150000
DTEND;TZID=Europe/Berlin:20240616T160000
DTSTAMP:20240613T061419Z
URL:https://musikschule-vulkaneifel.de/veranstaltungen/konzert-akkorden-or
 chester/
SUMMARY:Konzert Akkorden-Orchester
DESCRIPTION:
LOCATION:Nohner Mühle\, Nohner Mühle 2\, Nohn\, Deutschland
X-APPLE-STRUCTURED-LOCATION;VALUE=URI;X-ADDRESS=Nohner Mühle 2\, Nohn\, De
 utschland;X-APPLE-RADIUS=100;X-TITLE=Nohner Mühle:geo:0,0
END:VEVENT
BEGIN:VTIMEZONE
TZID:Europe/Berlin
X-LIC-LOCATION:Europe/Berlin
BEGIN:DAYLIGHT
DTSTART:20240331T030000
TZOFFSETFROM:+0100
TZOFFSETTO:+0200
TZNAME:CEST
END:DAYLIGHT
END:VTIMEZONE
END:VCALENDAR