BEGIN:VCALENDAR
VERSION:2.0
PRODID:-//wp-events-plugin.com//7.2.3.1//EN
TZID:Europe/Berlin
X-WR-TIMEZONE:Europe/Berlin
BEGIN:VEVENT
UID:41@musikschule-vulkaneifel.de
DTSTART;TZID=Europe/Berlin:20230618T170000
DTEND;TZID=Europe/Berlin:20230618T170000
DTSTAMP:20230525T164458Z
URL:https://musikschule-vulkaneifel.de/veranstaltungen/jubilaeumskonzert/
SUMMARY:Jubiläumskonzert
DESCRIPTION:15 Jahre Akkordeon-Orchester Vulkaneifel\n\nAls Gäste: Free Vo
 ices - Gospels and more...\n\nSonntag\, 18. Juni 2023\, 17 Uhr\, Forum Dau
 n\nLeitung: Alexander Konrad\n\n&nbsp\;\n\n
LOCATION:Forum Daun\, Leopoldstraße 5\, 54550 Daun\, Vulkaneifel\, Deutsch
 land
X-APPLE-STRUCTURED-LOCATION;VALUE=URI;X-ADDRESS=Leopoldstraße 5\, 54550 Da
 un\, Vulkaneifel\, Deutschland;X-APPLE-RADIUS=100;X-TITLE=Forum Daun:geo:0
 ,0
END:VEVENT
BEGIN:VTIMEZONE
TZID:Europe/Berlin
X-LIC-LOCATION:Europe/Berlin
BEGIN:DAYLIGHT
DTSTART:20230326T030000
TZOFFSETFROM:+0100
TZOFFSETTO:+0200
TZNAME:CEST
END:DAYLIGHT
END:VTIMEZONE
END:VCALENDAR