BEGIN:VCALENDAR
VERSION:2.0
PRODID:-//wp-events-plugin.com//7.2.3.1//EN
TZID:Europe/Berlin
X-WR-TIMEZONE:Europe/Berlin
BEGIN:VEVENT
UID:8@musikschule-vulkaneifel.de
DTSTART;TZID=Europe/Berlin:20181017T170000
DTEND;TZID=Europe/Berlin:20181017T170000
DTSTAMP:20181006T195545Z
URL:https://musikschule-vulkaneifel.de/veranstaltungen/festakt/
SUMMARY:Festakt
DESCRIPTION:Musikalische Umrahmung des Festaktes zur Amtseinführung des ne
 uen Chefarztes Herr Dr. Leffler im Krankenhaus Gerolstein.
LOCATION:Marienhaus Klinikum Gerolstein\, Aloys-Schneider-Straße 37\, Gero
 lstein\, Deutschland
X-APPLE-STRUCTURED-LOCATION;VALUE=URI;X-ADDRESS=Aloys-Schneider-Straße 37\
 , Gerolstein\, Deutschland;X-APPLE-RADIUS=100;X-TITLE=Marienhaus Klinikum 
 Gerolstein:geo:0,0
END:VEVENT
BEGIN:VTIMEZONE
TZID:Europe/Berlin
X-LIC-LOCATION:Europe/Berlin
BEGIN:DAYLIGHT
DTSTART:20180325T030000
TZOFFSETFROM:+0100
TZOFFSETTO:+0200
TZNAME:CEST
END:DAYLIGHT
END:VTIMEZONE
END:VCALENDAR