BEGIN:VCALENDAR
VERSION:2.0
PRODID:-//wp-events-plugin.com//7.2.3.1//EN
TZID:Europe/Berlin
X-WR-TIMEZONE:Europe/Berlin
BEGIN:VEVENT
UID:1@musikschule-vulkaneifel.de
DTSTART;TZID=Europe/Berlin:20180829T170000
DTEND;TZID=Europe/Berlin:20180829T190000
DTSTAMP:20180808T171217Z
URL:https://musikschule-vulkaneifel.de/veranstaltungen/de-hohner-plecke-de
 -bloome/
SUMMARY:CD-Präsentation: De Hohner plecke de Bloome
DESCRIPTION:\n\n270 Kinder und Jugendliche veröffentlichen gemeinsam mit d
 er Musikschule Landkreis Vulkaneifel e.V. eine CD auf Eifeler Platt\n\nDa 
 je – Am 29. August ist es soweit. 270 Kinder und Jugendliche von sechs S
 chulen des Landkreises freuen sich auf die feierliche Veröffentlichung ih
 rer CD mit Liedern auf Eifeler Platt. Gefeiert wird im Forum Daun. Gemeins
 am mit der Kreissparkasse Vulkaneifel präsentiert die Musikschule Landkre
 is Vulkaneifel e.V. die Ergebnisse der von den jungen Sängerinnen und Sä
 ngern mit Spannung erwarteten Aufnahmen.\n\nDie Idee zur CD entstand im ve
 rgangenen Jahr zur Veröffentlichung des Kinderliederbuches »De Hohner pl
 ecke de Blohme«\, in welchem die Musikschule zwölf Lieder aus dem Jahres
 kreis auf Eifeler Platt zusammengestellt hat. 
ATTACH;FMTTYPE=image/jpeg:https://musikschule-vulkaneifel.de/wp-content/up
 loads/2018/08/DeHohnerPleckeDeBloome.jpg
LOCATION:Forum Daun\, Leopoldstraße 5\, 54550 Daun\, Vulkaneifel\, Deutsch
 land
X-APPLE-STRUCTURED-LOCATION;VALUE=URI;X-ADDRESS=Leopoldstraße 5\, 54550 Da
 un\, Vulkaneifel\, Deutschland;X-APPLE-RADIUS=100;X-TITLE=Forum Daun:geo:0
 ,0
END:VEVENT
BEGIN:VTIMEZONE
TZID:Europe/Berlin
X-LIC-LOCATION:Europe/Berlin
BEGIN:DAYLIGHT
DTSTART:20180325T030000
TZOFFSETFROM:+0100
TZOFFSETTO:+0200
TZNAME:CEST
END:DAYLIGHT
END:VTIMEZONE
END:VCALENDAR