BEGIN:VCALENDAR
VERSION:2.0
PRODID:-//wp-events-plugin.com//7.2.3.1//EN
TZID:Europe/Berlin
X-WR-TIMEZONE:Europe/Berlin
BEGIN:VEVENT
UID:45@musikschule-vulkaneifel.de
DTSTART;TZID=Europe/Berlin:20240707T180000
DTEND;TZID=Europe/Berlin:20240707T190000
DTSTAMP:20240614T104437Z
URL:https://musikschule-vulkaneifel.de/veranstaltungen/chor-konzert/
SUMMARY:Chor-Konzert
DESCRIPTION:\nAm 7.7. um 18 Uhr gestaltet der Chor der Musikschule Vulkanei
 fel ein Konzert in der Kappelle Krewinkel. Unter dem Titel „Laut sein“
  präsentiert der Chor ein vielfältiges Programm mit weltlicher und geist
 licher Chormusik aus Klassik\, Pop und Filmmusik. Geleitet wird das Konzer
 t von Claudia Scheiner\, aus deren Gesangsklasse sich der Chor 2018 gegrü
 ndet hat.\n\n\n&nbsp\;
ATTACH;FMTTYPE=image/jpeg:https://musikschule-vulkaneifel.de/wp-content/up
 loads/2021/09/chor.jpeg
LOCATION:Kulturkapelle Krewinkel\, Krewinkel 10\, Krewinkel\, Belgien
X-APPLE-STRUCTURED-LOCATION;VALUE=URI;X-ADDRESS=Krewinkel 10\, Krewinkel\, 
 Belgien;X-APPLE-RADIUS=100;X-TITLE=Kulturkapelle Krewinkel:geo:0,0
END:VEVENT
BEGIN:VTIMEZONE
TZID:Europe/Berlin
X-LIC-LOCATION:Europe/Berlin
BEGIN:DAYLIGHT
DTSTART:20240331T030000
TZOFFSETFROM:+0100
TZOFFSETTO:+0200
TZNAME:CEST
END:DAYLIGHT
END:VTIMEZONE
END:VCALENDAR