BEGIN:VCALENDAR
VERSION:2.0
PRODID:-//wp-events-plugin.com//7.2.3.1//EN
TZID:Europe/Berlin
X-WR-TIMEZONE:Europe/Berlin
BEGIN:VEVENT
UID:49@musikschule-vulkaneifel.de
DTSTART;TZID=Europe/Berlin:20240821T190000
DTEND;TZID=Europe/Berlin:20240821T193000
DTSTAMP:20240820T202150Z
URL:https://musikschule-vulkaneifel.de/veranstaltungen/auftritt-des-chores
 -beim-hillesheimer-sommerspass/
SUMMARY:Auftritt des Chores beim Hillesheimer Sommerspass
DESCRIPTION:
ATTACH;FMTTYPE=image/jpeg:https://musikschule-vulkaneifel.de/wp-content/up
 loads/2024/08/102F3B4E-EC6A-465E-9861-3E654932D7AF.jpeg
LOCATION:Hillesheim an der Stadtmauer\, Burgstraße\, 54576 Hillesheim\, De
 utschland
X-APPLE-STRUCTURED-LOCATION;VALUE=URI;X-ADDRESS=Burgstraße\, 54576 Hillesh
 eim\, Deutschland;X-APPLE-RADIUS=100;X-TITLE=Hillesheim an der Stadtmauer:
 geo:0,0
END:VEVENT
BEGIN:VTIMEZONE
TZID:Europe/Berlin
X-LIC-LOCATION:Europe/Berlin
BEGIN:DAYLIGHT
DTSTART:20240331T030000
TZOFFSETFROM:+0100
TZOFFSETTO:+0200
TZNAME:CEST
END:DAYLIGHT
END:VTIMEZONE
END:VCALENDAR