BEGIN:VCALENDAR
VERSION:2.0
PRODID:-//wp-events-plugin.com//7.2.3.1//EN
TZID:Europe/Berlin
X-WR-TIMEZONE:Europe/Berlin
BEGIN:VEVENT
UID:30@musikschule-vulkaneifel.de
DTSTART;TZID=Europe/Berlin:20191124T160000
DTEND;TZID=Europe/Berlin:20191124T170000
DTSTAMP:20191111T080753Z
URL:https://musikschule-vulkaneifel.de/veranstaltungen/auftritt-des-akkord
 eonorchesters-anlaesslich-des-seniorentages-in-schutz/
SUMMARY:Auftritt des Akkordeonorchesters anlässlich des Seniorentages in S
 chutz
DESCRIPTION:Am Sonntag\, 24.11.2019 von 16 - 17 Uhr im Gemeindehaus in Schu
 tz
END:VEVENT
BEGIN:VTIMEZONE
TZID:Europe/Berlin
X-LIC-LOCATION:Europe/Berlin
BEGIN:STANDARD
DTSTART:20191027T020000
TZOFFSETFROM:+0200
TZOFFSETTO:+0100
TZNAME:CET
END:STANDARD
END:VTIMEZONE
END:VCALENDAR