BEGIN:VCALENDAR
VERSION:2.0
PRODID:-//wp-events-plugin.com//7.2.3.1//EN
TZID:Europe/Berlin
X-WR-TIMEZONE:Europe/Berlin
BEGIN:VEVENT
UID:27@musikschule-vulkaneifel.de
DTSTART;TZID=Europe/Berlin:20190901T163000
DTEND;TZID=Europe/Berlin:20190901T173000
DTSTAMP:20190614T075956Z
URL:https://musikschule-vulkaneifel.de/veranstaltungen/auftritt-des-akkord
 eonorchesters-anlaesslich-des-saenger-und-heimatfestes-des-mgv-pantenburg/
SUMMARY:Auftritt des Akkordeonorchesters anlässlich des Sänger- und Heima
 tfestes des MGV Pantenburg
DESCRIPTION:
LOCATION:Männergesangverein Pantenburg\, Bürgersaal\, Pantenburg\, Rheinl
 and-Pfalz\, 54531\, Deutschland
X-APPLE-STRUCTURED-LOCATION;VALUE=URI;X-ADDRESS=Bürgersaal\, Pantenburg\, 
 Rheinland-Pfalz\, 54531\, Deutschland;X-APPLE-RADIUS=100;X-TITLE=Männerge
 sangverein Pantenburg:geo:0,0
END:VEVENT
BEGIN:VTIMEZONE
TZID:Europe/Berlin
X-LIC-LOCATION:Europe/Berlin
BEGIN:DAYLIGHT
DTSTART:20190331T030000
TZOFFSETFROM:+0100
TZOFFSETTO:+0200
TZNAME:CEST
END:DAYLIGHT
END:VTIMEZONE
END:VCALENDAR