BEGIN:VCALENDAR
VERSION:2.0
PRODID:-//wp-events-plugin.com//7.2.3.1//EN
TZID:Europe/Berlin
X-WR-TIMEZONE:Europe/Berlin
BEGIN:VEVENT
UID:28@musikschule-vulkaneifel.de
DTSTART;TZID=Europe/Berlin:20191208T130000
DTEND;TZID=Europe/Berlin:20191208T140000
DTSTAMP:20190614T080608Z
URL:https://musikschule-vulkaneifel.de/veranstaltungen/auftritt-des-akkord
 eonorchesters-anlaesslich-des-dauner-adventsleuchten/
SUMMARY:Auftritt des Akkordeonorchesters anlässlich des Dauner Adventsleuc
 hten
DESCRIPTION:
LOCATION:Forum Daun\, Leopoldstraße 5\, Daun\, Rheinland-Pfalz\, 54550\, D
 eutschland
X-APPLE-STRUCTURED-LOCATION;VALUE=URI;X-ADDRESS=Leopoldstraße 5\, Daun\, R
 heinland-Pfalz\, 54550\, Deutschland;X-APPLE-RADIUS=100;X-TITLE=Forum Daun
 :geo:0,0
END:VEVENT
BEGIN:VTIMEZONE
TZID:Europe/Berlin
X-LIC-LOCATION:Europe/Berlin
BEGIN:STANDARD
DTSTART:20191027T020000
TZOFFSETFROM:+0200
TZOFFSETTO:+0100
TZNAME:CET
END:STANDARD
END:VTIMEZONE
END:VCALENDAR