BEGIN:VCALENDAR
VERSION:2.0
PRODID:-//wp-events-plugin.com//7.2.3.1//EN
TZID:Europe/Berlin
X-WR-TIMEZONE:Europe/Berlin
BEGIN:VEVENT
UID:25@musikschule-vulkaneifel.de
DTSTART;TZID=Europe/Berlin:20190804T130000
DTEND;TZID=Europe/Berlin:20190804T140000
DTSTAMP:20190614T075712Z
URL:https://musikschule-vulkaneifel.de/veranstaltungen/auftritt-des-akkord
 eonorchesters-anlaesslich-des-150-jaehrigen-jubilaeums-gasthaus-hoefchen/
SUMMARY:Auftritt des Akkordeonorchesters anlässlich des 150jährigen Beste
 hens des Gasthaus Höfchen
DESCRIPTION:
LOCATION:Gasthaus Höfchen\, Buchholzer Straße 26\, Eckfeld\, Rheinland-Pf
 alz\, 54531\, Deutschland
X-APPLE-STRUCTURED-LOCATION;VALUE=URI;X-ADDRESS=Buchholzer Straße 26\, Eck
 feld\, Rheinland-Pfalz\, 54531\, Deutschland;X-APPLE-RADIUS=100;X-TITLE=Ga
 sthaus Höfchen:geo:0,0
END:VEVENT
BEGIN:VTIMEZONE
TZID:Europe/Berlin
X-LIC-LOCATION:Europe/Berlin
BEGIN:DAYLIGHT
DTSTART:20190331T030000
TZOFFSETFROM:+0100
TZOFFSETTO:+0200
TZNAME:CEST
END:DAYLIGHT
END:VTIMEZONE
END:VCALENDAR