BEGIN:VCALENDAR
VERSION:2.0
PRODID:-//wp-events-plugin.com//7.2.3.1//EN
TZID:Europe/Berlin
X-WR-TIMEZONE:Europe/Berlin
BEGIN:VEVENT
UID:26@musikschule-vulkaneifel.de
DTSTART;TZID=Europe/Berlin:20190814T110000
DTEND;TZID=Europe/Berlin:20190814T123000
DTSTAMP:20190614T075549Z
URL:https://musikschule-vulkaneifel.de/veranstaltungen/auftritt-des-akkord
 eonorchesters-anlaesslich-der-dauner-kirmes/
SUMMARY:Auftritt des Akkordeonorchesters anlässlich der Dauner Kirmes
DESCRIPTION:
LOCATION:Dauner Kirmes\, Laurentiusplatz\, Daun\, Rheinland-Pfalz\, 54550\,
  Deutschland
X-APPLE-STRUCTURED-LOCATION;VALUE=URI;X-ADDRESS=Laurentiusplatz\, Daun\, Rh
 einland-Pfalz\, 54550\, Deutschland;X-APPLE-RADIUS=100;X-TITLE=Dauner Kirm
 es:geo:0,0
END:VEVENT
BEGIN:VTIMEZONE
TZID:Europe/Berlin
X-LIC-LOCATION:Europe/Berlin
BEGIN:DAYLIGHT
DTSTART:20190331T030000
TZOFFSETFROM:+0100
TZOFFSETTO:+0200
TZNAME:CEST
END:DAYLIGHT
END:VTIMEZONE
END:VCALENDAR