BEGIN:VCALENDAR
VERSION:2.0
PRODID:-//wp-events-plugin.com//7.2.3.1//EN
TZID:Europe/Berlin
X-WR-TIMEZONE:Europe/Berlin
BEGIN:VEVENT
UID:16@musikschule-vulkaneifel.de
DTSTART;TZID=Europe/Berlin:20190616T130000
DTEND;TZID=Europe/Berlin:20190616T140000
DTSTAMP:20190614T080220Z
URL:https://musikschule-vulkaneifel.de/veranstaltungen/auftritt-des-akkord
 eon-orchesters-anlaesslich-daun-spielt/
SUMMARY:Auftritt des Akkordeon-Orchesters anlässlich "Daun spielt"
DESCRIPTION:Unter der Leitung von Alexander Konrad auf der Postbühne
LOCATION:Daun spielt\, Innenstadt\, Daun\, Rheinland-Pfalz\, 54550\, Deutsc
 hland
X-APPLE-STRUCTURED-LOCATION;VALUE=URI;X-ADDRESS=Innenstadt\, Daun\, Rheinla
 nd-Pfalz\, 54550\, Deutschland;X-APPLE-RADIUS=100;X-TITLE=Daun spielt:geo:
 0,0
END:VEVENT
BEGIN:VTIMEZONE
TZID:Europe/Berlin
X-LIC-LOCATION:Europe/Berlin
BEGIN:DAYLIGHT
DTSTART:20190331T030000
TZOFFSETFROM:+0100
TZOFFSETTO:+0200
TZNAME:CEST
END:DAYLIGHT
END:VTIMEZONE
END:VCALENDAR