BEGIN:VCALENDAR
VERSION:2.0
PRODID:-//wp-events-plugin.com//7.2.3.1//EN
TZID:Europe/Berlin
X-WR-TIMEZONE:Europe/Berlin
BEGIN:VEVENT
UID:17@musikschule-vulkaneifel.de
DTSTART;TZID=Europe/Berlin:20190616T161500
DTEND;TZID=Europe/Berlin:20190616T171500
DTSTAMP:20190614T080453Z
URL:https://musikschule-vulkaneifel.de/veranstaltungen/auftritt-der-gsg-mu
 sikschul-big-band-anlaesslich-daun-spielt/
SUMMARY:Auftritt der GSG-Musikschul-Big Band anlässlich "Daun spielt"
DESCRIPTION:Nähere Infos und die genaue Uhrzeit folgen zeitnah
LOCATION:Daun spielt\, Innenstadt\, Daun\, Rheinland-Pfalz\, 54550\, Deutsc
 hland
X-APPLE-STRUCTURED-LOCATION;VALUE=URI;X-ADDRESS=Innenstadt\, Daun\, Rheinla
 nd-Pfalz\, 54550\, Deutschland;X-APPLE-RADIUS=100;X-TITLE=Daun spielt:geo:
 0,0
END:VEVENT
BEGIN:VTIMEZONE
TZID:Europe/Berlin
X-LIC-LOCATION:Europe/Berlin
BEGIN:DAYLIGHT
DTSTART:20190331T030000
TZOFFSETFROM:+0100
TZOFFSETTO:+0200
TZNAME:CEST
END:DAYLIGHT
END:VTIMEZONE
END:VCALENDAR