BEGIN:VCALENDAR
VERSION:2.0
PRODID:-//wp-events-plugin.com//7.2.3.1//EN
TZID:Europe/Berlin
X-WR-TIMEZONE:Europe/Berlin
BEGIN:VEVENT
UID:11@musikschule-vulkaneifel.de
DTSTART;TZID=Europe/Berlin:20181209T160000
DTEND;TZID=Europe/Berlin:20181209T163000
DTSTAMP:20181211T103910Z
URL:https://musikschule-vulkaneifel.de/veranstaltungen/auftritt-der-big-ba
 nd-im-rahmen-des-adventsleuchten/
SUMMARY:Auftritt der Big-Band im Rahmen des Adventsleuchten
DESCRIPTION:Unter Leitung von Alexander Konrad
LOCATION:Dauner Adventsleuchten 2018\, Forum Daun\, Leopoldstraße\, Daun\,
  Rheinland-Pfalz\, 54550\, Deutschland
X-APPLE-STRUCTURED-LOCATION;VALUE=URI;X-ADDRESS=Forum Daun\, Leopoldstraße
 \, Daun\, Rheinland-Pfalz\, 54550\, Deutschland;X-APPLE-RADIUS=100;X-TITLE
 =Dauner Adventsleuchten 2018:geo:0,0
END:VEVENT
BEGIN:VTIMEZONE
TZID:Europe/Berlin
X-LIC-LOCATION:Europe/Berlin
BEGIN:STANDARD
DTSTART:20181028T020000
TZOFFSETFROM:+0200
TZOFFSETTO:+0100
TZNAME:CET
END:STANDARD
END:VTIMEZONE
END:VCALENDAR