BEGIN:VCALENDAR
VERSION:2.0
PRODID:-//wp-events-plugin.com//7.2.3.1//EN
TZID:Europe/Berlin
X-WR-TIMEZONE:Europe/Berlin
BEGIN:VEVENT
UID:4@musikschule-vulkaneifel.de
DTSTART;TZID=Europe/Berlin:20180826T160000
DTEND;TZID=Europe/Berlin:20180826T170000
DTSTAMP:20180901T080550Z
URL:https://musikschule-vulkaneifel.de/veranstaltungen/akkordeon-orchester
 -dorffest-in-bolsdorf/
SUMMARY:Akkordeon-Orchester: Dorffest in Bolsdorf
DESCRIPTION:Das Akkordeon-Orchester der Musikschule Vulkaneifel e.V. spielt
  auf dem Dorffest in Bolsdorf\n\nLeitung Alexander Konrad
LOCATION:Dorffest Bolsdorf\, Ortszentrum\, Bolsdorf\, Deutschland
X-APPLE-STRUCTURED-LOCATION;VALUE=URI;X-ADDRESS=Ortszentrum\, Bolsdorf\, De
 utschland;X-APPLE-RADIUS=100;X-TITLE=Dorffest Bolsdorf:geo:0,0
END:VEVENT
BEGIN:VTIMEZONE
TZID:Europe/Berlin
X-LIC-LOCATION:Europe/Berlin
BEGIN:DAYLIGHT
DTSTART:20180325T030000
TZOFFSETFROM:+0100
TZOFFSETTO:+0200
TZNAME:CEST
END:DAYLIGHT
END:VTIMEZONE
END:VCALENDAR