BEGIN:VCALENDAR
VERSION:2.0
PRODID:-//wp-events-plugin.com//7.2.3.1//EN
TZID:Europe/Berlin
X-WR-TIMEZONE:Europe/Berlin
BEGIN:VEVENT
UID:57@musikschule-vulkaneifel.de
DTSTART;TZID=Europe/Berlin:20250813T130000
DTEND;TZID=Europe/Berlin:20250813T140000
DTSTAMP:20250625T091737Z
URL:https://musikschule-vulkaneifel.de/veranstaltungen/akkordeon-orchester
 -auf-der-dauner-kirmes/
SUMMARY:Akkordeon-Orchester auf der Dauner Laurentiuskirmes
DESCRIPTION:Leitung: Alexander Konrad
ATTACH;FMTTYPE=image/jpeg:https://musikschule-vulkaneifel.de/wp-content/up
 loads/2018/02/S-255-097-17.jpg
LOCATION:Bühne Laurentiusplatz\, Leopoldstraße 14\, 54550 Daun \, Deutsch
 land
X-APPLE-STRUCTURED-LOCATION;VALUE=URI;X-ADDRESS=Leopoldstraße 14\, 54550 D
 aun \, Deutschland;X-APPLE-RADIUS=100;X-TITLE=Bühne Laurentiusplatz:geo:0
 ,0
END:VEVENT
BEGIN:VTIMEZONE
TZID:Europe/Berlin
X-LIC-LOCATION:Europe/Berlin
BEGIN:DAYLIGHT
DTSTART:20250330T030000
TZOFFSETFROM:+0100
TZOFFSETTO:+0200
TZNAME:CEST
END:DAYLIGHT
END:VTIMEZONE
END:VCALENDAR