BEGIN:VCALENDAR
VERSION:2.0
PRODID:-//wp-events-plugin.com//7.2.3.1//EN
TZID:Europe/Berlin
X-WR-TIMEZONE:Europe/Berlin
BEGIN:VEVENT
UID:10@musikschule-vulkaneifel.de
DTSTART;TZID=Europe/Berlin:20181204T183000
DTEND;TZID=Europe/Berlin:20181204T200000
DTSTAMP:20181120T095330Z
URL:https://musikschule-vulkaneifel.de/veranstaltungen/adventskonzert-der-
 musikschule-landkreis-vulkaneifel-e-v/
SUMMARY:Adventskonzert der Musikschule Landkreis Vulkaneifel e.V.
DESCRIPTION:Herzliche Einladung zu unserem Adventskonzert
LOCATION:Seniorenheim Regina Protmann\, Ermlandweg 1\, Daun\, 54550\, Deuts
 chland
X-APPLE-STRUCTURED-LOCATION;VALUE=URI;X-ADDRESS=Ermlandweg 1\, Daun\, 54550
 \, Deutschland;X-APPLE-RADIUS=100;X-TITLE=Seniorenheim Regina Protmann:geo
 :0,0
END:VEVENT
BEGIN:VTIMEZONE
TZID:Europe/Berlin
X-LIC-LOCATION:Europe/Berlin
BEGIN:STANDARD
DTSTART:20181028T020000
TZOFFSETFROM:+0200
TZOFFSETTO:+0100
TZNAME:CET
END:STANDARD
END:VTIMEZONE
END:VCALENDAR