BEGIN:VCALENDAR
VERSION:2.0
PRODID:-//wp-events-plugin.com//7.2.3.1//EN
TZID:Europe/Berlin
X-WR-TIMEZONE:Europe/Berlin
BEGIN:VEVENT
UID:59@musikschule-vulkaneifel.de
DTSTART;TZID=Europe/Berlin:20250907T170000
DTEND;TZID=Europe/Berlin:20250907T180000
DTSTAMP:20250811T110732Z
URL:https://musikschule-vulkaneifel.de/veranstaltungen/a-smile-for-nepal-b
 enefizkonzert-des-chores/
SUMMARY:"A SMILE FOR NEPAL" - BENEFIZKONZERT DES CHORES
DESCRIPTION:Am 07. September um 17 Uhr gestaltet der Chor der Musikschule V
 ulkaneifel in der Erlöserkirche Gerolstein ein Benefizkonzert für den Ve
 rein „A smile for Nepal“.\n\nDer junge Chor\, der sich durch seine sti
 listische Vielseitigkeit auszeichnet\, wird in diesem Konzert neben berüh
 mten Meisterwerken der Chorliteratur\, wie dem sechsstimmige Abendlied von
  Josef Gabriel Rheinberg und „Cantique de Jean Racine“ von Gabriel Fau
 ré\, auch swingende und fetzige Stücke und das sich gegen Rechte Hetze a
 ussprechenden Popstück „Laut sein“ von Oliver Gies zu Gehör bringen.
 \n\nGeleitet wird das Konzert von Claudia Scheiner\, Alexander Mayer begle
 itet am Klavier und ergänzt das Programm mit Orgelwerken.\n\nDer Eintritt
  ist frei\, Spenden werden am Ausgang erbeten.\n
ATTACH;FMTTYPE=image/jpeg:https://musikschule-vulkaneifel.de/wp-content/up
 loads/2025/08/B445EE79-895F-453D-823C-06F2252300D2-1.jpeg
LOCATION:ERLÖSERKIRCHE\, SARRESDORFERSTR. 19\, GEROLSTEIN \, 54568\, Deuts
 chland
X-APPLE-STRUCTURED-LOCATION;VALUE=URI;X-ADDRESS=SARRESDORFERSTR. 19\, GEROL
 STEIN \, 54568\, Deutschland;X-APPLE-RADIUS=100;X-TITLE=ERLÖSERKIRCHE:geo
 :0,0
END:VEVENT
BEGIN:VTIMEZONE
TZID:Europe/Berlin
X-LIC-LOCATION:Europe/Berlin
BEGIN:DAYLIGHT
DTSTART:20250330T030000
TZOFFSETFROM:+0100
TZOFFSETTO:+0200
TZNAME:CEST
END:DAYLIGHT
END:VTIMEZONE
END:VCALENDAR